BEGIN:VCALENDAR
VERSION:2.0
PRODID:-//Squarespace Inc/Squarespace 6//v6//EN
BEGIN:VEVENT
UID:5a39632a08522944dfae602c@squarespace.com
DTSTAMP:20171219T190636Z
DTSTART:20181106T210000Z
DTEND:20181106T220000Z
SUMMARY:Havana Unit
GEO:41.603729;-87.518442
LOCATION:VFW\, 425 W. Avenue\, Havana\, IL
END:VEVENT
END:VCALENDAR
