BEGIN:VCALENDAR
VERSION:2.0
PRODID:-//Squarespace Inc/Squarespace 6//v6//EN
BEGIN:VEVENT
UID:5a3a91240d929714447ba16a@squarespace.com
DTSTAMP:20171220T163504Z
DTSTART:20181103T130000Z
DTEND:20181103T170000Z
SUMMARY:ALBAT Training
GEO:39.840315;-88.9548
LOCATION:Decatur\, IL
END:VEVENT
END:VCALENDAR
