BEGIN:VCALENDAR
VERSION:2.0
PRODID:-//Squarespace Inc/Squarespace 6//v6//EN
BEGIN:VEVENT
UID:5a3a916224a694938444d842@squarespace.com
DTSTAMP:20171220T163605Z
DTSTART:20181122T120000Z
DTEND:20181123T220000Z
SUMMARY:Office Closed Thanksgiving
END:VEVENT
END:VCALENDAR
