BEGIN:VCALENDAR
VERSION:2.0
PRODID:-//Squarespace Inc/Squarespace 6//v6//EN
BEGIN:VEVENT
UID:5a396550f9619ae08120635f@squarespace.com
DTSTAMP:20180821T182103Z
DTSTART:20181115T003000Z
DTEND:20181115T013000Z
SUMMARY:Jacksonville Unit
GEO:39.73497;-90.22795
LOCATION:American Legion\, 903 W. Superior Ave.\, Jacksonville\, IL\, 62650
 \, United States
END:VEVENT
END:VCALENDAR
