BEGIN:VCALENDAR
VERSION:2.0
PRODID:-//Squarespace Inc/Squarespace 6//v6//EN
BEGIN:VEVENT
UID:5a296b6dc83025b530716f1c@squarespace.com
DTSTAMP:20171207T162542Z
DTSTART:20181114T210000Z
DTEND:20181114T220000Z
SUMMARY:Baldwin Unit
GEO:38.325841;-89.878507
LOCATION:Bullpen\, 101 N. VanBuren St.\, New Athens\, IL
END:VEVENT
END:VCALENDAR
