BEGIN:VCALENDAR
VERSION:2.0
PRODID:-//Squarespace Inc/Squarespace 6//v6//EN
BEGIN:VEVENT
UID:5a3a9144ec212d380bff7227@squarespace.com
DTSTAMP:20171220T163535Z
DTSTART:20181112T120000Z
DTEND:20181112T220000Z
SUMMARY:Office Closed Veterans Day
END:VEVENT
END:VCALENDAR
