BEGIN:VCALENDAR
VERSION:2.0
PRODID:-//Squarespace Inc/Squarespace 6//v6//EN
BEGIN:VEVENT
UID:5a3a888ae4966b5c09e389af@squarespace.com
DTSTAMP:20171220T155821Z
DTSTART:20181101T213000Z
DTEND:20181101T223000Z
SUMMARY:Springfield Unit
GEO:39.743406;-89.714875
LOCATION:IBEW Local 51\, 3171 Green Head Drive\, Springfield\, IL\, 62711\, 
 United States
END:VEVENT
END:VCALENDAR
