BEGIN:VCALENDAR
VERSION:2.0
PRODID:-//Squarespace Inc/Squarespace 6//v6//EN
BEGIN:VEVENT
UID:5a3a8509652dea304920b415@squarespace.com
DTSTAMP:20171220T154318Z
DTSTART:20181003T200000Z
DTEND:20181003T210000Z
SUMMARY:Clinton Unit
GEO:40.149904;-88.942707
LOCATION:1520 E. South Street\, Clinton\, IL
END:VEVENT
END:VCALENDAR
