BEGIN:VCALENDAR
VERSION:2.0
PRODID:-//Squarespace Inc/Squarespace 6//v6//EN
BEGIN:VEVENT
UID:5a39630b24a6940a3230a0d8@squarespace.com
DTSTAMP:20171219T190605Z
DTSTART:20181002T200000Z
DTEND:20181002T210000Z
SUMMARY:Havana Unit
GEO:41.603729;-87.518442
LOCATION:VFW\, 425 W. Avenue\, Havana\, IL
END:VEVENT
END:VCALENDAR
