BEGIN:VCALENDAR
VERSION:2.0
PRODID:-//Squarespace Inc/Squarespace 6//v6//EN
BEGIN:VEVENT
UID:5a33e531652dea7bc2bdf8fe@squarespace.com
DTSTAMP:20171215T150750Z
DTSTART:20181011T193000Z
DTEND:20181011T203000Z
SUMMARY:Decatur Unit
GEO:39.88429;-88.935479
LOCATION:IBEW Local 146\, 3390 North Woodford Street\, Decatur\, IL\, 62526
 \, United States
END:VEVENT
END:VCALENDAR
