BEGIN:VCALENDAR
VERSION:2.0
PRODID:-//Squarespace Inc/Squarespace 6//v6//EN
BEGIN:VEVENT
UID:5a3965148165f57add5c37e0@squarespace.com
DTSTAMP:20180821T182202Z
DTSTART:20181010T233000Z
DTEND:20181011T003000Z
SUMMARY:Jacksonville Unit
GEO:39.73497;-90.22795
LOCATION:American Legion\, 903 W. Superior Ave.\, Jacksonville\, IL\, 62650
 \, United States
END:VEVENT
END:VCALENDAR
