BEGIN:VCALENDAR
VERSION:2.0
PRODID:-//Squarespace Inc/Squarespace 6//v6//EN
BEGIN:VEVENT
UID:5a296b90e4966b3c1cc7d046@squarespace.com
DTSTAMP:20171207T162608Z
DTSTART:20181010T200000Z
DTEND:20181010T210000Z
SUMMARY:Baldwin Unit
GEO:38.325841;-89.878507
LOCATION:Bullpen\, 101 N. VanBuren St.\, New Athens\, IL
END:VEVENT
END:VCALENDAR
