BEGIN:VCALENDAR
VERSION:2.0
PRODID:-//Squarespace Inc/Squarespace 6//v6//EN
BEGIN:VEVENT
UID:5a3a90d553450a17e9d7dcf2@squarespace.com
DTSTAMP:20171220T163341Z
DTSTART:20181001T110000Z
DTEND:20181001T120000Z
SUMMARY:4th Quarter Union Dues
END:VEVENT
END:VCALENDAR
