BEGIN:VCALENDAR
VERSION:2.0
PRODID:-//Squarespace Inc/Squarespace 6//v6//EN
BEGIN:VEVENT
UID:5a396837c830255e0b57816e@squarespace.com
DTSTAMP:20171219T192814Z
DTSTART:20180104T223000Z
DTEND:20180104T233000Z
SUMMARY:Springfield Unit
GEO:39.743406;-89.714875
LOCATION:IBEW Local 51\, 3171 Green Head Drive\, Springfield\, IL\, 62711\, 
 United States
END:VEVENT
END:VCALENDAR
