BEGIN:VCALENDAR
VERSION:2.0
PRODID:-//Squarespace Inc/Squarespace 6//v6//EN
BEGIN:VEVENT
UID:5a39677d24a6940a323184cb@squarespace.com
DTSTAMP:20171219T192522Z
DTSTART:20180103T230000Z
DTEND:20180104T000000Z
SUMMARY:LaSalle Unit
GEO:41.327869;-89.143939
LOCATION:Eagles Lodge\, 830 Harrison Street\, Peru\, IL\, 61354\, United St
 ates
END:VEVENT
END:VCALENDAR
