BEGIN:VCALENDAR
VERSION:2.0
PRODID:-//Squarespace Inc/Squarespace 6//v6//EN
BEGIN:VEVENT
UID:5a3a83a0c83025aa67ec5062@squarespace.com
DTSTAMP:20171220T153738Z
DTSTART:20180103T210000Z
DTEND:20180103T220000Z
SUMMARY:Clinton Unit
GEO:39.404178;-77.393813
LOCATION:1520 E. South Street\, Clinton\, IL
END:VEVENT
END:VCALENDAR
