BEGIN:VCALENDAR
VERSION:2.0
PRODID:-//Squarespace Inc/Squarespace 6//v6//EN
BEGIN:VEVENT
UID:5a3961b3652deaedc9175187@squarespace.com
DTSTAMP:20171219T190040Z
DTSTART:20180102T210000Z
DTEND:20180102T220000Z
SUMMARY:Havana Unit
GEO:41.603729;-87.518442
LOCATION:VFW\, 425 W. Avenue\, Havana\, IL
END:VEVENT
END:VCALENDAR
