BEGIN:VCALENDAR
VERSION:2.0
PRODID:-//Squarespace Inc/Squarespace 6//v6//EN
BEGIN:VEVENT
UID:5a2994d5419202efdbc45844@squarespace.com
DTSTAMP:20171207T192227Z
DTSTART:20180102T230000Z
DTEND:20180103T000000Z
SUMMARY:Bloomington Unit
GEO:40.448278;-89.02508
LOCATION:IBEW Local 197\, 2407 Beich Road\, Bloomington\, IL\, 61705\, Unit
 ed States
END:VEVENT
END:VCALENDAR
