BEGIN:VCALENDAR
VERSION:2.0
PRODID:-//Squarespace Inc/Squarespace 6//v6//EN
BEGIN:VEVENT
UID:5a396700ec212dbbbd4ac82b@squarespace.com
DTSTAMP:20171219T192306Z
DTSTART:20180113T140000Z
DTEND:20180113T180000Z
SUMMARY:ALBAT Training
GEO:40.720756;-74.000761
LOCATION:Decatur
END:VEVENT
END:VCALENDAR
