BEGIN:VCALENDAR
VERSION:2.0
PRODID:-//Squarespace Inc/Squarespace 6//v6//EN
BEGIN:VEVENT
UID:5a2ad7a1652dea23bb9b08ef@squarespace.com
DTSTAMP:20171208T181939Z
DTSTART:20180113T003000Z
DTEND:20180113T013000Z
SUMMARY:Construction Unit
GEO:39.743519;-89.714882
LOCATION:IBEW Local 51\, 3171 Green Head Drive\, Springfield\, IL\, 62711\, 
 United States
END:VEVENT
END:VCALENDAR
