BEGIN:VCALENDAR
VERSION:2.0
PRODID:-//Squarespace Inc/Squarespace 6//v6//EN
BEGIN:VEVENT
UID:5a3967f7c830255e0b5773ba@squarespace.com
DTSTAMP:20171219T192723Z
DTSTART:20180111T213000Z
DTEND:20180111T223000Z
SUMMARY:Peoria Unit
GEO:44.948164;-93.253571
LOCATION:VFW 2602\, 1505 E. Lake St.\, Peoria Heights\, IL
END:VEVENT
END:VCALENDAR
