BEGIN:VCALENDAR
VERSION:2.0
PRODID:-//Squarespace Inc/Squarespace 6//v6//EN
BEGIN:VEVENT
UID:5a33e5b341920241eb4a5c0e@squarespace.com
DTSTAMP:20171215T150955Z
DTSTART:20180111T213000Z
DTEND:20180111T223000Z
SUMMARY:Decatur Unit 15
GEO:39.88429;-88.935479
LOCATION:IBEW Local 146\, 3390 North Woodford Street\, Decatur\, IL\, 62526
 \, United States
END:VEVENT
END:VCALENDAR
