BEGIN:VCALENDAR
VERSION:2.0
PRODID:-//Squarespace Inc/Squarespace 6//v6//EN
BEGIN:VEVENT
UID:5a29691d71c10b807d8821d6@squarespace.com
DTSTAMP:20171207T161746Z
DTSTART:20180110T210000Z
DTEND:20180110T220000Z
SUMMARY:Baldwin Unit
GEO:38.325841;-89.878507
LOCATION:Bullpen\, 101 N. Van Buren St.\, New Athens\, IL
END:VEVENT
END:VCALENDAR
