BEGIN:VCALENDAR
VERSION:2.0
PRODID:-//Squarespace Inc/Squarespace 6//v6//EN
BEGIN:VEVENT
UID:5877b5e2ebbd1a124af628f3@squarespace.com
DTSTAMP:20170112T170158Z
DTSTART:20170907T210000Z
DTEND:20170907T220000Z
SUMMARY:Wood River Unit
GEO:38.673065;-90.014011
LOCATION:IBEW Local 309\, 2000A Mall Street\, Collinsville\, IL\, 62234\, U
 nited States
END:VEVENT
END:VCALENDAR
