BEGIN:VCALENDAR
VERSION:2.0
PRODID:-//Squarespace Inc/Squarespace 6//v6//EN
BEGIN:VEVENT
UID:5877b2c2b3db2b3e9b69d482@squarespace.com
DTSTAMP:20170112T164644Z
DTSTART:20170905T200000Z
DTEND:20170905T210000Z
SUMMARY:Havana Unit
GEO:42.162531;-94.203785
LOCATION:VFW\, 425 W. Ave.\, Havana\, IL
END:VEVENT
END:VCALENDAR
