BEGIN:VCALENDAR
VERSION:2.0
PRODID:-//Squarespace Inc/Squarespace 6//v6//EN
BEGIN:VEVENT
UID:5877b30115d5db0e660db5cc@squarespace.com
DTSTAMP:20170731T203626Z
DTSTART:20170907T210000Z
DTEND:20170907T220000Z
SUMMARY:Galesburg Unit
GEO:40.917263;-90.293142
LOCATION:American Legion Post 285\, Knoxville American Legion\, 749 Henders
 on Rd\, Knoxville IL
END:VEVENT
END:VCALENDAR
