BEGIN:VCALENDAR
VERSION:2.0
PRODID:-//Squarespace Inc/Squarespace 6//v6//EN
BEGIN:VEVENT
UID:5877b01aff7c50ba8358310e@squarespace.com
DTSTAMP:20170112T163852Z
DTSTART:20170904T110000Z
DTEND:20170904T200000Z
SUMMARY:Office Closed - Labor Day
END:VEVENT
END:VCALENDAR
