BEGIN:VCALENDAR
VERSION:2.0
PRODID:-//Squarespace Inc/Squarespace 6//v6//EN
BEGIN:VEVENT
UID:5877b12fd482e93bc2b01b52@squarespace.com
DTSTAMP:20170220T194309Z
DTSTART:20170923T160000Z
DTEND:20170923T210000Z
SUMMARY:Annual Picnic
GEO:39.743519;-89.714882
LOCATION:IBEW Local 51\, 3171 Green Head Drive\, Springfield\, IL\, 62711\, 
 United States
END:VEVENT
END:VCALENDAR
