BEGIN:VCALENDAR
VERSION:2.0
PRODID:-//Squarespace Inc/Squarespace 6//v6//EN
BEGIN:VEVENT
UID:5877b2062e69cf71c1e02331@squarespace.com
DTSTAMP:20170112T164333Z
DTSTART:20170922T040000Z
DTEND:20170922T050000Z
SUMMARY:Fall Equinox
END:VEVENT
END:VCALENDAR
