BEGIN:VCALENDAR
VERSION:2.0
PRODID:-//Squarespace Inc/Squarespace 6//v6//EN
BEGIN:VEVENT
UID:5877b81ee3df28ed4409fd35@squarespace.com
DTSTAMP:20170112T170933Z
DTSTART:20170913T200000Z
DTEND:20170913T210000Z
SUMMARY:Baldwin Unit
GEO:38.325745;-89.878519
LOCATION:The Bullpen\, 101 North Van Buren Street\, New Athens\, IL\, 62264
 \, United States
END:VEVENT
END:VCALENDAR
