BEGIN:VCALENDAR
VERSION:2.0
PRODID:-//Squarespace Inc/Squarespace 6//v6//EN
BEGIN:VEVENT
UID:5877acb13a04110424143dc9@squarespace.com
DTSTAMP:20170112T162046Z
DTSTART:20170808T213000Z
DTEND:20170808T223000Z
SUMMARY:Champaign Unit
GEO:33.872962;-88.552956
LOCATION:VFW Post 5520\, 609 Edgebrook Drive\, Champaign\, IL\, 61820\, Uni
 ted States
END:VEVENT
END:VCALENDAR
