BEGIN:VCALENDAR
VERSION:2.0
PRODID:-//Squarespace Inc/Squarespace 6//v6//EN
BEGIN:VEVENT
UID:5877ac4de6f2e1b3ddc79b39@squarespace.com
DTSTAMP:20170112T161916Z
DTSTART:20170803T213000Z
DTEND:20170803T223000Z
SUMMARY:Springfield Unit
GEO:39.743519;-89.714882
LOCATION:IBEW Local 51\, 3171 Green Head Drive\, Springfield\, IL\, 62711\, 
 United States
END:VEVENT
END:VCALENDAR
