BEGIN:VCALENDAR
VERSION:2.0
PRODID:-//Squarespace Inc/Squarespace 6//v6//EN
BEGIN:VEVENT
UID:5877aa7117bffcd222c4b2db@squarespace.com
DTSTAMP:20170112T161109Z
DTSTART:20170802T220000Z
DTEND:20170802T230000Z
SUMMARY:LaSalle Unit
GEO:41.873069;-87.795457
LOCATION:Eagles Lodge\, 830 Harrison St.\, Peru\, IL
END:VEVENT
END:VCALENDAR
