BEGIN:VCALENDAR
VERSION:2.0
PRODID:-//Squarespace Inc/Squarespace 6//v6//EN
BEGIN:VEVENT
UID:5877a8038419c24f67fda7d1@squarespace.com
DTSTAMP:20170112T160108Z
DTSTART:20170802T200000Z
DTEND:20170802T210000Z
SUMMARY:Clinton Unit
GEO:38.646298;-94.335936
LOCATION:Elks Lodge 785\, 1520 E. South St.\, Clinton\, IL
END:VEVENT
END:VCALENDAR
