BEGIN:VCALENDAR
VERSION:2.0
PRODID:-//Squarespace Inc/Squarespace 6//v6//EN
BEGIN:VEVENT
UID:5877ae4a3a04110424145b37@squarespace.com
DTSTAMP:20170112T162740Z
DTSTART:20170810T213000Z
DTEND:20170810T223000Z
SUMMARY:Peoria Unit
GEO:41.984519;-88.142876
LOCATION:VFW 2602\, 1505 E. Lake St.\, Peoria Heights\, IL
END:VEVENT
END:VCALENDAR
