BEGIN:VCALENDAR
VERSION:2.0
PRODID:-//Squarespace Inc/Squarespace 6//v6//EN
BEGIN:VEVENT
UID:5877ae18c534a51486a716fa@squarespace.com
DTSTAMP:20170112T162637Z
DTSTART:20170810T210000Z
DTEND:20170810T220000Z
SUMMARY:Decatur Unit 15
GEO:39.884232;-88.9355
LOCATION:IBEW Local 146\, 3390 North Woodford Street\, Decatur\, IL\, 62526
 \, United States
END:VEVENT
END:VCALENDAR
