BEGIN:VCALENDAR
VERSION:2.0
PRODID:-//Squarespace Inc/Squarespace 6//v6//EN
BEGIN:VEVENT
UID:5877a6a8e3df28c4d842120e@squarespace.com
DTSTAMP:20170112T155827Z
DTSTART:20170801T200000Z
DTEND:20170801T210000Z
SUMMARY:Havana Unit
GEO:42.162531;-94.203785
LOCATION:VFW\, 425 W. Ave.\, Havana\, IL
END:VEVENT
END:VCALENDAR
