BEGIN:VCALENDAR
VERSION:2.0
PRODID:-//Squarespace Inc/Squarespace 6//v6//EN
BEGIN:VEVENT
UID:5877a3e286e6c05d569a76a9@squarespace.com
DTSTAMP:20170731T202530Z
DTSTART:20170803T210000Z
DTEND:20170803T220000Z
SUMMARY:Galesburg Unit
GEO:40.917279;-90.293151
LOCATION:Knoxville American Legion\, 749 Henderson Road\, Knoxville\, IL\, 
 61448\, United States
END:VEVENT
END:VCALENDAR
