BEGIN:VCALENDAR
VERSION:2.0
PRODID:-//Squarespace Inc/Squarespace 6//v6//EN
BEGIN:VEVENT
UID:58779f41b3db2bb26153869d@squarespace.com
DTSTAMP:20170112T152317Z
DTSTART:20170706T210000Z
DTEND:20170706T220000Z
SUMMARY:Wood River Unit
GEO:38.673065;-90.014011
LOCATION:IBEW Local 309\, 2000A Mall Street\, Collinsville\, IL\, 62234\, U
 nited States
END:VEVENT
END:VCALENDAR
