BEGIN:VCALENDAR
VERSION:2.0
PRODID:-//Squarespace Inc/Squarespace 6//v6//EN
BEGIN:VEVENT
UID:58779eda03596ef426317bbd@squarespace.com
DTSTAMP:20170112T152134Z
DTSTART:20170705T210000Z
DTEND:20170705T220000Z
SUMMARY:Lincoln Unit
GEO:40.140096;-89.348783
LOCATION:KC Hall\, 217 Limit Street\, Lincoln\, IL\, 62656\, United States
END:VEVENT
END:VCALENDAR
