BEGIN:VCALENDAR
VERSION:2.0
PRODID:-//Squarespace Inc/Squarespace 6//v6//EN
BEGIN:VEVENT
UID:58779f0c9de4bb64f715f119@squarespace.com
DTSTAMP:20170112T152226Z
DTSTART:20170705T220000Z
DTEND:20170705T230000Z
SUMMARY:LaSalle Unit
GEO:41.327869;-89.143939
LOCATION:Eagles Lodge\, 830 Harrison Street\, Peru\, IL\, 61354\, United St
 ates
END:VEVENT
END:VCALENDAR
