BEGIN:VCALENDAR
VERSION:2.0
PRODID:-//Squarespace Inc/Squarespace 6//v6//EN
BEGIN:VEVENT
UID:58779e992994ca323c293da8@squarespace.com
DTSTAMP:20170112T152042Z
DTSTART:20170705T200000Z
DTEND:20170705T210000Z
SUMMARY:Clinton Unit
GEO:38.646298;-94.335936
LOCATION:Elks Lodge #285\, 1520 E. South St.\, Clinton\, IL
END:VEVENT
END:VCALENDAR
