BEGIN:VCALENDAR
VERSION:2.0
PRODID:-//Squarespace Inc/Squarespace 6//v6//EN
BEGIN:VEVENT
UID:58779e12414fb5fcb1ca64bc@squarespace.com
DTSTAMP:20170112T151937Z
DTSTART:20170704T110000Z
DTEND:20170704T200000Z
SUMMARY:OFFICE CLOSED
END:VEVENT
END:VCALENDAR
