BEGIN:VCALENDAR
VERSION:2.0
PRODID:-//Squarespace Inc/Squarespace 6//v6//EN
BEGIN:VEVENT
UID:58779db7579fb3c2eacf2ed8@squarespace.com
DTSTAMP:20170112T151638Z
DTSTART:20170703T110000Z
DTEND:20170703T120000Z
SUMMARY:THIRD QUARTER UNION DUES
END:VEVENT
END:VCALENDAR
