BEGIN:VCALENDAR
VERSION:2.0
PRODID:-//Squarespace Inc/Squarespace 6//v6//EN
BEGIN:VEVENT
UID:5877a5cb9f74561d8c638c97@squarespace.com
DTSTAMP:20170112T155153Z
DTSTART:20170722T130000Z
DTEND:20170722T170000Z
SUMMARY:Executive Board
GEO:39.743519;-89.714882
LOCATION:IBEW Local 51\, 3171 Green Head Drive\, Springfield\, IL\, 62711\, 
 United States
END:VEVENT
END:VCALENDAR
