BEGIN:VCALENDAR
VERSION:2.0
PRODID:-//Squarespace Inc/Squarespace 6//v6//EN
BEGIN:VEVENT
UID:5877a477c534a51486a681ed@squarespace.com
DTSTAMP:20170112T154530Z
DTSTART:20170712T200000Z
DTEND:20170712T210000Z
SUMMARY:Baldwin Unit
GEO:35.309977;-80.633017
LOCATION:The Bullpen\, 101 North Van Buren Street\, New Athens\, IL\, 62264
 \, United States
END:VEVENT
END:VCALENDAR
