BEGIN:VCALENDAR
VERSION:2.0
PRODID:-//Squarespace Inc/Squarespace 6//v6//EN
BEGIN:VEVENT
UID:5877a39486e6c05d569a7215@squarespace.com
DTSTAMP:20170112T154202Z
DTSTART:20170711T200000Z
DTEND:20170711T210000Z
SUMMARY:Havana Unit
GEO:42.162531;-94.203785
LOCATION:VFW\, 425 W. Ave\, Havana\, IL
END:VEVENT
END:VCALENDAR
