BEGIN:VCALENDAR
VERSION:2.0
PRODID:-//Squarespace Inc/Squarespace 6//v6//EN
BEGIN:VEVENT
UID:5877a3feebbd1a9d05a34978@squarespace.com
DTSTAMP:20170112T154338Z
DTSTART:20170711T213000Z
DTEND:20170711T223000Z
SUMMARY:Champaign Unit
GEO:40.13117;-88.252501
LOCATION:VFW Post 5520\, 609 Edgebrook Drive\, Champaign\, IL\, 61820\, Uni
 ted States
END:VEVENT
END:VCALENDAR
