BEGIN:VCALENDAR
VERSION:2.0
PRODID:-//Squarespace Inc/Squarespace 6//v6//EN
BEGIN:VEVENT
UID:5877a0b446c3c482a97e7209@squarespace.com
DTSTAMP:20170112T152940Z
DTSTART:20170710T210000Z
DTEND:20170710T220000Z
SUMMARY:Galesburg Unit
GEO:40.951224;-90.361005
LOCATION:American Legion Post 285\, 571 E. North\, Galesburg\, IL
END:VEVENT
END:VCALENDAR
