BEGIN:VCALENDAR
VERSION:2.0
PRODID:-//Squarespace Inc/Squarespace 6//v6//EN
BEGIN:VEVENT
UID:5876853746c3c45b23bbec08@squarespace.com
DTSTAMP:20170111T191954Z
DTSTART:20170609T233000Z
DTEND:20170610T003000Z
SUMMARY:Construction Unit
GEO:39.743519;-89.714882
LOCATION:IBEW Local 51\, 3171 Green Head Drive\, Springfield\, IL\, 62711\, 
 United States
END:VEVENT
END:VCALENDAR
